BEGIN:VCALENDAR
VERSION:2.0
PRODID:-//Urrbrae Agricultural High School - ECPv6.15.18//NONSGML v1.0//EN
CALSCALE:GREGORIAN
METHOD:PUBLISH
X-ORIGINAL-URL:https://urrbraehs.sa.edu.au
X-WR-CALDESC:Events for Urrbrae Agricultural High School
REFRESH-INTERVAL;VALUE=DURATION:PT1H
X-Robots-Tag:noindex
X-PUBLISHED-TTL:PT1H
BEGIN:VTIMEZONE
TZID:Australia/Adelaide
BEGIN:STANDARD
TZOFFSETFROM:+1030
TZOFFSETTO:+0930
TZNAME:ACST
DTSTART:20250405T163000
END:STANDARD
BEGIN:DAYLIGHT
TZOFFSETFROM:+0930
TZOFFSETTO:+1030
TZNAME:ACDT
DTSTART:20251004T163000
END:DAYLIGHT
BEGIN:STANDARD
TZOFFSETFROM:+1030
TZOFFSETTO:+0930
TZNAME:ACST
DTSTART:20260404T163000
END:STANDARD
BEGIN:DAYLIGHT
TZOFFSETFROM:+0930
TZOFFSETTO:+1030
TZNAME:ACDT
DTSTART:20261003T163000
END:DAYLIGHT
BEGIN:STANDARD
TZOFFSETFROM:+1030
TZOFFSETTO:+0930
TZNAME:ACST
DTSTART:20270403T163000
END:STANDARD
BEGIN:DAYLIGHT
TZOFFSETFROM:+0930
TZOFFSETTO:+1030
TZNAME:ACDT
DTSTART:20271002T163000
END:DAYLIGHT
END:VTIMEZONE
BEGIN:VEVENT
DTSTART;VALUE=DATE:20260427
DTEND;VALUE=DATE:20260428
DTSTAMP:20260423T000807
CREATED:20260114T013052Z
LAST-MODIFIED:20260114T013052Z
UID:10003789-1777248000-1777334399@urrbraehs.sa.edu.au
SUMMARY:Student Free Day
DESCRIPTION:
URL:https://urrbraehs.sa.edu.au/event/student-free-day-2/
END:VEVENT
BEGIN:VEVENT
DTSTART;VALUE=DATE:20260428
DTEND;VALUE=DATE:20260429
DTSTAMP:20260423T000807
CREATED:20260114T013118Z
LAST-MODIFIED:20260114T013118Z
UID:10003790-1777334400-1777420799@urrbraehs.sa.edu.au
SUMMARY:Start of Term 2
DESCRIPTION:
URL:https://urrbraehs.sa.edu.au/event/start-of-term-2-2/
END:VEVENT
BEGIN:VEVENT
DTSTART;TZID=Australia/Adelaide:20260429T093000
DTEND;TZID=Australia/Adelaide:20260429T110000
DTSTAMP:20260423T000807
CREATED:20260114T014237Z
LAST-MODIFIED:20260114T014237Z
UID:10003794-1777455000-1777460400@urrbraehs.sa.edu.au
SUMMARY:Principal's Tour
DESCRIPTION:
URL:https://urrbraehs.sa.edu.au/event/principals-tour-22/
END:VEVENT
BEGIN:VEVENT
DTSTART;TZID=Australia/Adelaide:20260429T160000
DTEND;TZID=Australia/Adelaide:20260429T173000
DTSTAMP:20260423T000807
CREATED:20260114T014300Z
LAST-MODIFIED:20260114T014300Z
UID:10003795-1777478400-1777483800@urrbraehs.sa.edu.au
SUMMARY:Principal's Tour
DESCRIPTION:
URL:https://urrbraehs.sa.edu.au/event/principals-tour-23/
END:VEVENT
END:VCALENDAR