BEGIN:VCALENDAR
VERSION:2.0
PRODID:-//Urrbrae Agricultural High School - ECPv6.15.18//NONSGML v1.0//EN
CALSCALE:GREGORIAN
METHOD:PUBLISH
X-WR-CALNAME:Urrbrae Agricultural High School
X-ORIGINAL-URL:https://urrbraehs.sa.edu.au
X-WR-CALDESC:Events for Urrbrae Agricultural High School
REFRESH-INTERVAL;VALUE=DURATION:PT1H
X-Robots-Tag:noindex
X-PUBLISHED-TTL:PT1H
BEGIN:VTIMEZONE
TZID:Australia/Adelaide
BEGIN:STANDARD
TZOFFSETFROM:+1030
TZOFFSETTO:+0930
TZNAME:ACST
DTSTART:20250405T163000
END:STANDARD
BEGIN:DAYLIGHT
TZOFFSETFROM:+0930
TZOFFSETTO:+1030
TZNAME:ACDT
DTSTART:20251004T163000
END:DAYLIGHT
BEGIN:STANDARD
TZOFFSETFROM:+1030
TZOFFSETTO:+0930
TZNAME:ACST
DTSTART:20260404T163000
END:STANDARD
BEGIN:DAYLIGHT
TZOFFSETFROM:+0930
TZOFFSETTO:+1030
TZNAME:ACDT
DTSTART:20261003T163000
END:DAYLIGHT
BEGIN:STANDARD
TZOFFSETFROM:+1030
TZOFFSETTO:+0930
TZNAME:ACST
DTSTART:20270403T163000
END:STANDARD
BEGIN:DAYLIGHT
TZOFFSETFROM:+0930
TZOFFSETTO:+1030
TZNAME:ACDT
DTSTART:20271002T163000
END:DAYLIGHT
END:VTIMEZONE
BEGIN:VEVENT
DTSTART;VALUE=DATE:20260602
DTEND;VALUE=DATE:20260603
DTSTAMP:20260423T014227
CREATED:20260114T014500Z
LAST-MODIFIED:20260114T014500Z
UID:10003797-1780358400-1780444799@urrbraehs.sa.edu.au
SUMMARY:Casual Day
DESCRIPTION:
URL:https://urrbraehs.sa.edu.au/event/casual-day-5/
END:VEVENT
BEGIN:VEVENT
DTSTART;VALUE=DATE:20260605
DTEND;VALUE=DATE:20260606
DTSTAMP:20260423T014227
CREATED:20260114T014537Z
LAST-MODIFIED:20260114T014537Z
UID:10003798-1780617600-1780703999@urrbraehs.sa.edu.au
SUMMARY:Student Free Day
DESCRIPTION:
URL:https://urrbraehs.sa.edu.au/event/student-free-day-3/
END:VEVENT
BEGIN:VEVENT
DTSTART;TZID=Australia/Adelaide:20260606T090000
DTEND;TZID=Australia/Adelaide:20260606T120000
DTSTAMP:20260423T014227
CREATED:20260114T014815Z
LAST-MODIFIED:20260114T014815Z
UID:10003802-1780736400-1780747200@urrbraehs.sa.edu.au
SUMMARY:Barn Market
DESCRIPTION:
URL:https://urrbraehs.sa.edu.au/event/barn-market-13/
END:VEVENT
BEGIN:VEVENT
DTSTART;VALUE=DATE:20260608
DTEND;VALUE=DATE:20260609
DTSTAMP:20260423T014227
CREATED:20260114T014616Z
LAST-MODIFIED:20260114T014616Z
UID:10003799-1780876800-1780963199@urrbraehs.sa.edu.au
SUMMARY:Public Holiday
DESCRIPTION:
URL:https://urrbraehs.sa.edu.au/event/public-holiday-6/
END:VEVENT
BEGIN:VEVENT
DTSTART;TZID=Australia/Adelaide:20260611T093000
DTEND;TZID=Australia/Adelaide:20260611T110000
DTSTAMP:20260423T014227
CREATED:20260114T014657Z
LAST-MODIFIED:20260114T014657Z
UID:10003800-1781170200-1781175600@urrbraehs.sa.edu.au
SUMMARY:Principal's Tour
DESCRIPTION:
URL:https://urrbraehs.sa.edu.au/event/principals-tour-24/
END:VEVENT
BEGIN:VEVENT
DTSTART;TZID=Australia/Adelaide:20260611T160000
DTEND;TZID=Australia/Adelaide:20260611T173000
DTSTAMP:20260423T014227
CREATED:20260114T014729Z
LAST-MODIFIED:20260114T014729Z
UID:10003801-1781193600-1781199000@urrbraehs.sa.edu.au
SUMMARY:Principal's Tour
DESCRIPTION:
URL:https://urrbraehs.sa.edu.au/event/principals-tour-25/
END:VEVENT
BEGIN:VEVENT
DTSTART;TZID=Australia/Adelaide:20260616T180000
DTEND;TZID=Australia/Adelaide:20260616T180000
DTSTAMP:20260423T014227
CREATED:20260319T230952Z
LAST-MODIFIED:20260319T231115Z
UID:10003815-1781632800-1781632800@urrbraehs.sa.edu.au
SUMMARY:Governing Council Meeting
DESCRIPTION:
URL:https://urrbraehs.sa.edu.au/event/governing-council-meeting-3/
END:VEVENT
BEGIN:VEVENT
DTSTART;TZID=Australia/Adelaide:20260623T093000
DTEND;TZID=Australia/Adelaide:20260623T110000
DTSTAMP:20260423T014227
CREATED:20260114T014857Z
LAST-MODIFIED:20260114T014857Z
UID:10003803-1782207000-1782212400@urrbraehs.sa.edu.au
SUMMARY:Principal's Tour
DESCRIPTION:
URL:https://urrbraehs.sa.edu.au/event/principals-tour-26/
END:VEVENT
BEGIN:VEVENT
DTSTART;TZID=Australia/Adelaide:20260623T160000
DTEND;TZID=Australia/Adelaide:20260623T173000
DTSTAMP:20260423T014227
CREATED:20260114T014928Z
LAST-MODIFIED:20260114T014928Z
UID:10003804-1782230400-1782235800@urrbraehs.sa.edu.au
SUMMARY:Principal's Tour
DESCRIPTION:
URL:https://urrbraehs.sa.edu.au/event/principals-tour-27/
END:VEVENT
END:VCALENDAR