BEGIN:VCALENDAR
VERSION:2.0
PRODID:-//Urrbrae Agricultural High School - ECPv6.15.18//NONSGML v1.0//EN
CALSCALE:GREGORIAN
METHOD:PUBLISH
X-ORIGINAL-URL:https://urrbraehs.sa.edu.au
X-WR-CALDESC:Events for Urrbrae Agricultural High School
REFRESH-INTERVAL;VALUE=DURATION:PT1H
X-Robots-Tag:noindex
X-PUBLISHED-TTL:PT1H
BEGIN:VTIMEZONE
TZID:Australia/Adelaide
BEGIN:STANDARD
TZOFFSETFROM:+1030
TZOFFSETTO:+0930
TZNAME:ACST
DTSTART:20250405T163000
END:STANDARD
BEGIN:DAYLIGHT
TZOFFSETFROM:+0930
TZOFFSETTO:+1030
TZNAME:ACDT
DTSTART:20251004T163000
END:DAYLIGHT
BEGIN:STANDARD
TZOFFSETFROM:+1030
TZOFFSETTO:+0930
TZNAME:ACST
DTSTART:20260404T163000
END:STANDARD
BEGIN:DAYLIGHT
TZOFFSETFROM:+0930
TZOFFSETTO:+1030
TZNAME:ACDT
DTSTART:20261003T163000
END:DAYLIGHT
BEGIN:STANDARD
TZOFFSETFROM:+1030
TZOFFSETTO:+0930
TZNAME:ACST
DTSTART:20270403T163000
END:STANDARD
BEGIN:DAYLIGHT
TZOFFSETFROM:+0930
TZOFFSETTO:+1030
TZNAME:ACDT
DTSTART:20271002T163000
END:DAYLIGHT
END:VTIMEZONE
BEGIN:VEVENT
DTSTART;TZID=Australia/Adelaide:20260801T090000
DTEND;TZID=Australia/Adelaide:20260801T120000
DTSTAMP:20260423T050640
CREATED:20260319T230614Z
LAST-MODIFIED:20260319T230750Z
UID:10003814-1785574800-1785585600@urrbraehs.sa.edu.au
SUMMARY:Barn Market & SALA Art Show
DESCRIPTION:
URL:https://urrbraehs.sa.edu.au/event/barn-market-15/
END:VEVENT
BEGIN:VEVENT
DTSTART;TZID=Australia/Adelaide:20260811T180000
DTEND;TZID=Australia/Adelaide:20260811T180000
DTSTAMP:20260423T050640
CREATED:20260319T231146Z
LAST-MODIFIED:20260319T231229Z
UID:10003816-1786471200-1786471200@urrbraehs.sa.edu.au
SUMMARY:Governing Council Meeting
DESCRIPTION:
URL:https://urrbraehs.sa.edu.au/event/governing-council-meeting-4/
END:VEVENT
BEGIN:VEVENT
DTSTART;VALUE=DATE:20260818
DTEND;VALUE=DATE:20260819
DTSTAMP:20260423T050640
CREATED:20260319T231319Z
LAST-MODIFIED:20260319T231319Z
UID:10003817-1787011200-1787097599@urrbraehs.sa.edu.au
SUMMARY:Sports & Specials Photography Day
DESCRIPTION:
URL:https://urrbraehs.sa.edu.au/event/sports-specials-photography-day/
END:VEVENT
BEGIN:VEVENT
DTSTART;VALUE=DATE:20260824
DTEND;VALUE=DATE:20260825
DTSTAMP:20260423T050640
CREATED:20260319T231348Z
LAST-MODIFIED:20260319T231348Z
UID:10003818-1787529600-1787615999@urrbraehs.sa.edu.au
SUMMARY:Casual Day
DESCRIPTION:
URL:https://urrbraehs.sa.edu.au/event/casual-day-6/
END:VEVENT
BEGIN:VEVENT
DTSTART;TZID=Australia/Adelaide:20260827T093000
DTEND;TZID=Australia/Adelaide:20260827T113000
DTSTAMP:20260423T050640
CREATED:20260319T231423Z
LAST-MODIFIED:20260319T231423Z
UID:10003819-1787823000-1787830200@urrbraehs.sa.edu.au
SUMMARY:Principal Tours
DESCRIPTION:
URL:https://urrbraehs.sa.edu.au/event/principal-tours-3/
END:VEVENT
BEGIN:VEVENT
DTSTART;TZID=Australia/Adelaide:20260827T160000
DTEND;TZID=Australia/Adelaide:20260827T173000
DTSTAMP:20260423T050640
CREATED:20260319T231447Z
LAST-MODIFIED:20260319T231447Z
UID:10003820-1787846400-1787851800@urrbraehs.sa.edu.au
SUMMARY:Principal Tours
DESCRIPTION:
URL:https://urrbraehs.sa.edu.au/event/principal-tours-4/
END:VEVENT
END:VCALENDAR