BEGIN:VCALENDAR
VERSION:2.0
PRODID:-//Urrbrae Agricultural High School - ECPv6.15.18//NONSGML v1.0//EN
CALSCALE:GREGORIAN
METHOD:PUBLISH
X-ORIGINAL-URL:https://urrbraehs.sa.edu.au
X-WR-CALDESC:Events for Urrbrae Agricultural High School
REFRESH-INTERVAL;VALUE=DURATION:PT1H
X-Robots-Tag:noindex
X-PUBLISHED-TTL:PT1H
BEGIN:VTIMEZONE
TZID:Australia/Adelaide
BEGIN:STANDARD
TZOFFSETFROM:+1030
TZOFFSETTO:+0930
TZNAME:ACST
DTSTART:20250405T163000
END:STANDARD
BEGIN:DAYLIGHT
TZOFFSETFROM:+0930
TZOFFSETTO:+1030
TZNAME:ACDT
DTSTART:20251004T163000
END:DAYLIGHT
BEGIN:STANDARD
TZOFFSETFROM:+1030
TZOFFSETTO:+0930
TZNAME:ACST
DTSTART:20260404T163000
END:STANDARD
BEGIN:DAYLIGHT
TZOFFSETFROM:+0930
TZOFFSETTO:+1030
TZNAME:ACDT
DTSTART:20261003T163000
END:DAYLIGHT
BEGIN:STANDARD
TZOFFSETFROM:+1030
TZOFFSETTO:+0930
TZNAME:ACST
DTSTART:20270403T163000
END:STANDARD
BEGIN:DAYLIGHT
TZOFFSETFROM:+0930
TZOFFSETTO:+1030
TZNAME:ACDT
DTSTART:20271002T163000
END:DAYLIGHT
END:VTIMEZONE
BEGIN:VEVENT
DTSTART;VALUE=DATE:20261102
DTEND;VALUE=DATE:20261107
DTSTAMP:20260423T095400
CREATED:20260319T233711Z
LAST-MODIFIED:20260319T234336Z
UID:10003833-1793577600-1794009599@urrbraehs.sa.edu.au
SUMMARY:Year 12 Exams
DESCRIPTION:
URL:https://urrbraehs.sa.edu.au/event/year-12-exams-2/
END:VEVENT
BEGIN:VEVENT
DTSTART;TZID=Australia/Adelaide:20261107T090000
DTEND;TZID=Australia/Adelaide:20261107T120000
DTSTAMP:20260423T095400
CREATED:20260319T233824Z
LAST-MODIFIED:20260319T233824Z
UID:10003834-1794042000-1794052800@urrbraehs.sa.edu.au
SUMMARY:Barn Market
DESCRIPTION:
URL:https://urrbraehs.sa.edu.au/event/barn-market-17/
END:VEVENT
BEGIN:VEVENT
DTSTART;VALUE=DATE:20261109
DTEND;VALUE=DATE:20261114
DTSTAMP:20260423T095400
CREATED:20260319T234406Z
LAST-MODIFIED:20260319T234406Z
UID:10003835-1794182400-1794614399@urrbraehs.sa.edu.au
SUMMARY:Year 12 Exams
DESCRIPTION:
URL:https://urrbraehs.sa.edu.au/event/year-12-exams-3/
END:VEVENT
BEGIN:VEVENT
DTSTART;TZID=Australia/Adelaide:20261113T190000
DTEND;TZID=Australia/Adelaide:20261113T210000
DTSTAMP:20260423T095400
CREATED:20260319T234618Z
LAST-MODIFIED:20260319T234618Z
UID:10003836-1794596400-1794603600@urrbraehs.sa.edu.au
SUMMARY:Presentation Night & Year 12 Graduation
DESCRIPTION:
URL:https://urrbraehs.sa.edu.au/event/presentation-night-year-12-graduation/
END:VEVENT
BEGIN:VEVENT
DTSTART;TZID=Australia/Adelaide:20261118T180000
DTEND;TZID=Australia/Adelaide:20261118T200000
DTSTAMP:20260423T095400
CREATED:20260320T002202Z
LAST-MODIFIED:20260320T002202Z
UID:10003838-1795024800-1795032000@urrbraehs.sa.edu.au
SUMMARY:Day on the Green
DESCRIPTION:
URL:https://urrbraehs.sa.edu.au/event/day-on-the-green/
END:VEVENT
BEGIN:VEVENT
DTSTART;VALUE=DATE:20261120
DTEND;VALUE=DATE:20261121
DTSTAMP:20260423T095400
CREATED:20260320T001845Z
LAST-MODIFIED:20260320T001845Z
UID:10003837-1795132800-1795219199@urrbraehs.sa.edu.au
SUMMARY:Casual Day
DESCRIPTION:
URL:https://urrbraehs.sa.edu.au/event/casual-day-8/
END:VEVENT
BEGIN:VEVENT
DTSTART;VALUE=DATE:20261123
DTEND;VALUE=DATE:20261124
DTSTAMP:20260423T095400
CREATED:20260320T002438Z
LAST-MODIFIED:20260320T002438Z
UID:10003839-1795392000-1795478399@urrbraehs.sa.edu.au
SUMMARY:Jump Start Year 11 to Year 12
DESCRIPTION:
URL:https://urrbraehs.sa.edu.au/event/jump-start-year-11-to-year-12/
END:VEVENT
END:VCALENDAR