BEGIN:VCALENDAR
VERSION:2.0
PRODID:-//Urrbrae Agricultural High School - ECPv6.15.18//NONSGML v1.0//EN
CALSCALE:GREGORIAN
METHOD:PUBLISH
X-WR-CALNAME:Urrbrae Agricultural High School
X-ORIGINAL-URL:https://urrbraehs.sa.edu.au
X-WR-CALDESC:Events for Urrbrae Agricultural High School
REFRESH-INTERVAL;VALUE=DURATION:PT1H
X-Robots-Tag:noindex
X-PUBLISHED-TTL:PT1H
BEGIN:VTIMEZONE
TZID:Australia/Adelaide
BEGIN:STANDARD
TZOFFSETFROM:+1030
TZOFFSETTO:+0930
TZNAME:ACST
DTSTART:20250405T163000
END:STANDARD
BEGIN:DAYLIGHT
TZOFFSETFROM:+0930
TZOFFSETTO:+1030
TZNAME:ACDT
DTSTART:20251004T163000
END:DAYLIGHT
BEGIN:STANDARD
TZOFFSETFROM:+1030
TZOFFSETTO:+0930
TZNAME:ACST
DTSTART:20260404T163000
END:STANDARD
BEGIN:DAYLIGHT
TZOFFSETFROM:+0930
TZOFFSETTO:+1030
TZNAME:ACDT
DTSTART:20261003T163000
END:DAYLIGHT
BEGIN:STANDARD
TZOFFSETFROM:+1030
TZOFFSETTO:+0930
TZNAME:ACST
DTSTART:20270403T163000
END:STANDARD
BEGIN:DAYLIGHT
TZOFFSETFROM:+0930
TZOFFSETTO:+1030
TZNAME:ACDT
DTSTART:20271002T163000
END:DAYLIGHT
END:VTIMEZONE
BEGIN:VEVENT
DTSTART;TZID=Australia/Adelaide:20261201T180000
DTEND;TZID=Australia/Adelaide:20261201T190000
DTSTAMP:20260423T113720
CREATED:20260320T002515Z
LAST-MODIFIED:20260320T002515Z
UID:10003840-1796148000-1796151600@urrbraehs.sa.edu.au
SUMMARY:Governing Council Meeting
DESCRIPTION:
URL:https://urrbraehs.sa.edu.au/event/governing-council-meeting-6/
END:VEVENT
BEGIN:VEVENT
DTSTART;TZID=Australia/Adelaide:20261203T093000
DTEND;TZID=Australia/Adelaide:20261203T110000
DTSTAMP:20260423T113720
CREATED:20260320T002632Z
LAST-MODIFIED:20260320T002632Z
UID:10003841-1796290200-1796295600@urrbraehs.sa.edu.au
SUMMARY:Principal Tours
DESCRIPTION:
URL:https://urrbraehs.sa.edu.au/event/principal-tours-7/
END:VEVENT
BEGIN:VEVENT
DTSTART;TZID=Australia/Adelaide:20261203T160000
DTEND;TZID=Australia/Adelaide:20261203T173000
DTSTAMP:20260423T113720
CREATED:20260320T002655Z
LAST-MODIFIED:20260320T002655Z
UID:10003842-1796313600-1796319000@urrbraehs.sa.edu.au
SUMMARY:Principal Tours
DESCRIPTION:
URL:https://urrbraehs.sa.edu.au/event/principal-tours-8/
END:VEVENT
BEGIN:VEVENT
DTSTART;TZID=Australia/Adelaide:20261205T090000
DTEND;TZID=Australia/Adelaide:20261205T120000
DTSTAMP:20260423T113720
CREATED:20260320T002719Z
LAST-MODIFIED:20260320T002719Z
UID:10003843-1796461200-1796472000@urrbraehs.sa.edu.au
SUMMARY:Barn Market
DESCRIPTION:
URL:https://urrbraehs.sa.edu.au/event/barn-market-18/
END:VEVENT
BEGIN:VEVENT
DTSTART;VALUE=DATE:20261211
DTEND;VALUE=DATE:20261212
DTSTAMP:20260423T113720
CREATED:20260320T002814Z
LAST-MODIFIED:20260320T002814Z
UID:10003844-1796947200-1797033599@urrbraehs.sa.edu.au
SUMMARY:End of Term 4\, Early finish 12pm
DESCRIPTION:
URL:https://urrbraehs.sa.edu.au/event/end-of-term-4-early-finish-12pm/
END:VEVENT
END:VCALENDAR